BEGIN:VCALENDAR
VERSION:2.0
PRODID:icalendar-ruby
CALSCALE:GREGORIAN
METHOD:PUBLISH
BEGIN:VEVENT
DTSTAMP:20260422T100138Z
UID:7-1425018@harborpointe.org
DTSTART:20261101T150000Z
DTEND:20261101T160000Z
CLASS:PUBLIC
CREATED:20260421T212131
DESCRIPTION:Betsy and Al Castanien are the contacts.
LAST-MODIFIED:20260421T212131
LOCATION:351 E. Mercury Blvd. Hampton\, VA 23663 (HPcc)
SUMMARY:Sunday AM Adult Study
URL;VALUE=URI:https://harborpointe.org/events/sunday-am-adult-study/2026-11
 -01
END:VEVENT
END:VCALENDAR
