BEGIN:VCALENDAR
VERSION:2.0
PRODID:icalendar-ruby
CALSCALE:GREGORIAN
METHOD:PUBLISH
BEGIN:VEVENT
DTSTAMP:20260420T082317Z
UID:7-1418825@harborpointe.org
DTSTART:20261025T140000Z
DTEND:20261025T150000Z
CLASS:PUBLIC
CREATED:20260420T033121
DESCRIPTION:Betsy and Al Castanien are the contacts.
LAST-MODIFIED:20260420T033121
LOCATION:351 E. Mercury Blvd. Hampton\, VA 23663 (HPcc)
SUMMARY:Sunday AM Adult Study
URL;VALUE=URI:https://harborpointe.org/events/sunday-am-adult-study/2026-10
 -25
END:VEVENT
END:VCALENDAR
