BEGIN:VCALENDAR
VERSION:2.0
PRODID:icalendar-ruby
CALSCALE:GREGORIAN
METHOD:PUBLISH
BEGIN:VEVENT
DTSTAMP:20260420T051710Z
UID:7-1418307@harborpointe.org
DTSTART:20261011T140000Z
DTEND:20261011T150000Z
CLASS:PUBLIC
CREATED:20260419T235359
DESCRIPTION:Betsy and Al Castanien are the contacts.
LAST-MODIFIED:20260419T235359
LOCATION:351 E. Mercury Blvd. Hampton\, VA 23663 (HPcc)
SUMMARY:Sunday AM Adult Study
URL;VALUE=URI:https://harborpointe.org/events/sunday-am-adult-study/2026-10
 -11
END:VEVENT
END:VCALENDAR
